BEGIN:VCALENDAR
VERSION:2.0
PRODID:-//Coach Aparicio - ECPv6.3.3.1//NONSGML v1.0//EN
CALSCALE:GREGORIAN
METHOD:PUBLISH
X-ORIGINAL-URL:https://coachaparicio.com
X-WR-CALDESC:Eventos para Coach Aparicio
REFRESH-INTERVAL;VALUE=DURATION:PT1H
X-Robots-Tag:noindex
X-PUBLISHED-TTL:PT1H
BEGIN:VTIMEZONE
TZID:Europe/Madrid
BEGIN:DAYLIGHT
TZOFFSETFROM:+0100
TZOFFSETTO:+0200
TZNAME:CEST
DTSTART:20240331T010000
END:DAYLIGHT
BEGIN:STANDARD
TZOFFSETFROM:+0200
TZOFFSETTO:+0100
TZNAME:CET
DTSTART:20241027T010000
END:STANDARD
BEGIN:DAYLIGHT
TZOFFSETFROM:+0100
TZOFFSETTO:+0200
TZNAME:CEST
DTSTART:20250330T010000
END:DAYLIGHT
BEGIN:STANDARD
TZOFFSETFROM:+0200
TZOFFSETTO:+0100
TZNAME:CET
DTSTART:20251026T010000
END:STANDARD
END:VTIMEZONE
BEGIN:VEVENT
DTSTART;VALUE=DATE:20251222
DTEND;VALUE=DATE:20251224
DTSTAMP:20260424T180530
CREATED:20240207T150108Z
LAST-MODIFIED:20251002T153503Z
UID:1903-1766361600-1766534399@coachaparicio.com
SUMMARY:II C4mpus de Tiro. La Pineda
DESCRIPTION:II C4MPUS DE TIRO. LA PINEDA. \nFecha:                 22-23/12/2025\nHorarios:              de 9:00 a 13:00\nLugar:                    Pabellón Municipal La Pineda\nRégimen:              Externo\nEdades:                 Mayores de 2018.
URL:https://coachaparicio.com/evento/ii-c4mpus-de-tiro-la-pineda/
LOCATION:Pavelló Municipal d’Esports de la Pineda\, Carrer d'Amadeu Vives\, 42\, La Pineda (Vila Seca)\, Tarragona\, 43481\, España
ATTACH;FMTTYPE=image/png:https://coachaparicio.com/wp-content/uploads/2025/10/2025-12-II-Campus-Tiro-ok.png
ORGANIZER;CN="Carlos Aparicio":MAILTO:info@coachaparicio.com
END:VEVENT
BEGIN:VEVENT
DTSTART;VALUE=DATE:20240902
DTEND;VALUE=DATE:20240907
DTSTAMP:20260424T180530
CREATED:20240207T150332Z
LAST-MODIFIED:20240801T110222Z
UID:1909-1725235200-1725667199@coachaparicio.com
SUMMARY:Training Camp Junior - TARRAGONA
DESCRIPTION:Campus de pretemporada para jugadores/as de base que quieran preparar la pretemporada y el inicio de la temporada para estar a su mejor nivel. \nTrabajo a nivel físico (con balón)\, herramientas psicológicas\, fundamentos\, tiro\, 1c1 y lecturas de juego (táctica individual). \nCampus dinámico y con máxima diversión. \n\nFechas: 2 al 6 de septiembre 2024\nHorarios: 9:00 a 13:00\nLugar: Pabellón Campo Claro\nRégimen: Externo\nEdades: 2007 -2015
URL:https://coachaparicio.com/evento/training-camp-junior/
LOCATION:Pabellón Campo Claro\, C/ Riu Siurana s/n\, Campo Claro\, Tarragona\, 43006\, España
ORGANIZER;CN="Carlos Aparicio":MAILTO:info@coachaparicio.com
END:VEVENT
BEGIN:VEVENT
DTSTART;TZID=Europe/Madrid:20240831T100000
DTEND;TZID=Europe/Madrid:20240831T110000
DTSTAMP:20260424T180530
CREATED:20240723T102230Z
LAST-MODIFIED:20240723T102230Z
UID:2544-1725098400-1725102000@coachaparicio.com
SUMMARY:All4One Academy. Tecnificación. Sesión 100
DESCRIPTION:Tecnificación de Baloncesto.\n\nMetodologia de trabajo de la All4One Academy.\nRutinas para el auto entrenamiento en video personalizado.\nTrabajo con herramientas de psicologia deportiva.\nPlanteamiento transversal desde la parte de preparación física\, finalizaciones\, fundamentos\, 1c1 y contexto en situaciones colectivas.\nTrabajo personalizado e individualizado.\n\n\nModalidades:\n\nTecnificaciones (máximo 4 jugadores/as por entrenador/a).\n3×3. Para tu equipo de 3×3. Máximo 4 jugadores/as por equipo.\n\nLugar: \nPabellón Municipal La Canonja (Tarragona)\nC/ Alcalde Maria Fons i Ciurana \nPrecios individuales: \n\n1ª sesión es gratuita. Pedir hora por mail a info@coachaparicio.com \nSesión única: 35 €\nBonus 5 sesiones 30 €\nBonus 10 sesiones 25 €.\n\nObjetivos sesión: \nEntrenamientos privados (genéricos). \nTecnificaciones: \n\nTiro\nFundamentos. Pases.\nFundamentos. Bote y cambios.\nFundamentos. Trabajo.\nDRSP (desmarques\, recepciones\, salidas y paradas).\n1c1 para bases.\n1c1 para escoltas.\n1c1 para aleros.\n1c1 para ala pivots.\n1c1 para interiores.
URL:https://coachaparicio.com/evento/all4one-academy-tecnificacion-sesion-100/
LOCATION:Pabellón Municipal La Canonja\, C/ Alcalde Maria Fons i Ciurana\, Tarragona\, Tarragona\, España
END:VEVENT
END:VCALENDAR